BEGIN:VCALENDAR
VERSION:2.0
PRODID:-//Iftare in Österreich - ECPv6.15.16//NONSGML v1.0//EN
CALSCALE:GREGORIAN
METHOD:PUBLISH
X-WR-CALNAME:Iftare in Österreich
X-ORIGINAL-URL:https://www.iftar.at
X-WR-CALDESC:Veranstaltungen für Iftare in Österreich
REFRESH-INTERVAL;VALUE=DURATION:PT1H
X-Robots-Tag:noindex
X-PUBLISHED-TTL:PT1H
BEGIN:VTIMEZONE
TZID:Europe/Vienna
BEGIN:DAYLIGHT
TZOFFSETFROM:+0100
TZOFFSETTO:+0200
TZNAME:CEST
DTSTART:20220327T010000
END:DAYLIGHT
BEGIN:STANDARD
TZOFFSETFROM:+0200
TZOFFSETTO:+0100
TZNAME:CET
DTSTART:20221030T010000
END:STANDARD
BEGIN:DAYLIGHT
TZOFFSETFROM:+0100
TZOFFSETTO:+0200
TZNAME:CEST
DTSTART:20230326T010000
END:DAYLIGHT
BEGIN:STANDARD
TZOFFSETFROM:+0200
TZOFFSETTO:+0100
TZNAME:CET
DTSTART:20231029T010000
END:STANDARD
BEGIN:DAYLIGHT
TZOFFSETFROM:+0100
TZOFFSETTO:+0200
TZNAME:CEST
DTSTART:20240331T010000
END:DAYLIGHT
BEGIN:STANDARD
TZOFFSETFROM:+0200
TZOFFSETTO:+0100
TZNAME:CET
DTSTART:20241027T010000
END:STANDARD
END:VTIMEZONE
BEGIN:VEVENT
DTSTART;TZID=Europe/Vienna:20230304T173000
DTEND;TZID=Europe/Vienna:20230304T200000
DTSTAMP:20260426T043606
CREATED:20230304T105656Z
LAST-MODIFIED:20240113T121416Z
UID:1405-1677951000-1677960000@www.iftar.at
SUMMARY:GJM Pre-Ramadan Iftar Tulln
DESCRIPTION:Der Fastenmonat Ramaḍān nähert sich 🤗 Mit unserem Pre-Ramaḍān Iftar in der Moschee in Tulln 🕌 am 4. März wollen wir uns gemeinsam für den Fastenmonat vorbereiten. Für Essen und Getränke ist gesorgt. 👥Mit dem Imam der Moschee Senad Kusur werden wir in der Gruppe über den anstehenden Ramaḍān sprechen! 💫 \n🗓 Wir laden euch alle herzlich ein➡️Anmeldung per dm an https://www.instagram.com/gjmoesterreich/.
URL:https://www.iftar.at/event/gjm-pre-ramadan-iftar-tulln-2023/
LOCATION:Verein der Bosniaken “Kevser“\, Porschestraße 3-5\, Tulln\, Niederösterreich\, 3430\, Österreich
CATEGORIES:Iftar,Iftar 2023
ORGANIZER;CN="Gemeinschaft Junger MuslimInnen":MAILTO:office@derislam.at
END:VEVENT
BEGIN:VEVENT
DTSTART;VALUE=DATE:20230305
DTEND;VALUE=DATE:20230308
DTSTAMP:20260426T043606
CREATED:20221226T100227Z
LAST-MODIFIED:20240113T121359Z
UID:1342-1677974400-1678233599@www.iftar.at
SUMMARY:Weiße Tage (Sha’aban) 2023
DESCRIPTION:
URL:https://www.iftar.at/event/weisse-tage-shaaban-2023/
CATEGORIES:Weiße Tage,Weiße Tage 2023
END:VEVENT
BEGIN:VEVENT
DTSTART;VALUE=DATE:20230323
DTEND;VALUE=DATE:20230421
DTSTAMP:20260426T043606
CREATED:20221226T100227Z
LAST-MODIFIED:20240113T125443Z
UID:1343-1679529600-1682031599@www.iftar.at
SUMMARY:Ramadan 2023
DESCRIPTION:
URL:https://www.iftar.at/event/ramadan-2023/
CATEGORIES:Ramadan,Ramadan 2023
END:VEVENT
BEGIN:VEVENT
DTSTART;TZID=Europe/Vienna:20230324T180000
DTEND;TZID=Europe/Vienna:20230324T210000
DTSTAMP:20260426T043606
CREATED:20230321T194945Z
LAST-MODIFIED:20240113T121308Z
UID:1467-1679680800-1679691600@www.iftar.at
SUMMARY:Verein der Bosniaken Frauen Iftar Linz
DESCRIPTION:
URL:https://www.iftar.at/event/verein-der-bosniaken-frauen-iftar-linz/
LOCATION:Verein der Bosniaken\, Linz\, Kremplstraße 1a\, Linz\, Oberösterreich\, 4020\, Österreich
CATEGORIES:Iftar,Iftar 2023
ORGANIZER;CN="Dzemat Nur Linz":MAILTO:office@nur-linz.com
END:VEVENT
BEGIN:VEVENT
DTSTART;TZID=Europe/Vienna:20230325T163000
DTEND;TZID=Europe/Vienna:20230325T220000
DTSTAMP:20260426T043606
CREATED:20230305T110917Z
LAST-MODIFIED:20240113T121308Z
UID:1408-1679761800-1679781600@www.iftar.at
SUMMARY:MJÖ Iftar Linz
DESCRIPTION:Assalamu alaikum wa rahmatullahi wa barakatuh! \nHiermit dürfen wir euch feierlich zum MJÖ Linzer Iftar 2023 einladen!! 🎉\nZusammen werden wir ein phänomenales Programm erleben 🎤 \, unser Fasten brechen 🥘 und alle im gesegnetsten Monat zusammenkommen! \nAnmeldung unter app.mjoe.at\nWir freuen uns auf DICH!
URL:https://www.iftar.at/event/mjoe-iftar-linz-2023/
LOCATION:Neues Rathaus Linz\, Hauptstraße 1-5\, Linz\, Oberösterreich\, 4041\, Österreich
CATEGORIES:Iftar,Iftar 2023
END:VEVENT
BEGIN:VEVENT
DTSTART;TZID=Europe/Vienna:20230325T170000
DTEND;TZID=Europe/Vienna:20230325T210000
DTSTAMP:20260426T043606
CREATED:20230317T071350Z
LAST-MODIFIED:20240113T121307Z
UID:1422-1679763600-1679778000@www.iftar.at
SUMMARY:MJÖ Iftar NÖ
DESCRIPTION:Die MJÖ-NÖ lädt zum alljährlichen Iftar ein. 🌙✨ \n❗️ANMELDUNG: app.mjoe.at
URL:https://www.iftar.at/event/mjoe-iftar-noe-2023/
LOCATION:Gemeindezentrum Theresienfeld\, Hauptplatz 1\, Theresienfeld\, Niederösterreich\, 2604\, Österreich
CATEGORIES:Iftar,Iftar 2023
END:VEVENT
BEGIN:VEVENT
DTSTART;TZID=Europe/Vienna:20230325T173000
DTEND;TZID=Europe/Vienna:20230325T210000
DTSTAMP:20260426T043606
CREATED:20230321T195106Z
LAST-MODIFIED:20240113T121307Z
UID:1469-1679765400-1679778000@www.iftar.at
SUMMARY:Dzemat Bosna Schwestern Iftar Salzburg
DESCRIPTION:„Ponovno nam dolazi veliki\, mubarek mjesec Ramazan \, mjesec posta\, nafila namaza\, učenja Kur’ana\, mjesec Allahove milosti\, oprosta i spasa \,a mi vam donosimo kratki pregled ramazanski aktivnosti u džematu. \nCilj svih navedenih ramazanskih aktivnosti\, ali i onih dodatnih koje će biti realizirane\, a o čemu ćemo izvještavati na našoj stranici\,jeste ispunjavanje stroge obaveze \, koja je jedna od stubova islama kojim iskazujemo svoju poslušnost Allahu .To je mjesec strpljivosti\, za koju je nagrada džennet i mjesec pomaganja kada se povećava opskrba vjernika. \nAllahu naš\, molimo Te učini nas od onih koji će dočekati mjesec ramazan. Allahu naš\, učini nas od onih koji će biti u stanju ispostiti mjesec ramazan. Allahu naš\, nek a ovaj ramazan bude prekretnica na bolje u našim životima\, odnosima i djelima. „
URL:https://www.iftar.at/event/dzemat-bosna-sw-iftar-salzburg/
LOCATION:Dzemat Bosna Salzburg\, Richard-Kürth-Straße 4\, Salzburg\, 5020\, Österreich
CATEGORIES:Iftar,Iftar 2023
END:VEVENT
BEGIN:VEVENT
DTSTART;TZID=Europe/Vienna:20230325T174500
DTEND;TZID=Europe/Vienna:20230325T210000
DTSTAMP:20260426T043606
CREATED:20230304T104513Z
LAST-MODIFIED:20240113T121307Z
UID:1402-1679766300-1679778000@www.iftar.at
SUMMARY:MJÖ Iftar Klagenfurt
DESCRIPTION:Bald ist’s wieder so weit\, insA! 😭🤩 \nVerpasse das Event des Jahres nicht! Lass dich von einem einzigartigen Programm überraschen und nimm deine Friends mit. 😌
URL:https://www.iftar.at/event/mjoe-klagenfurt-2023/
LOCATION:Messehalle 3 Klagenfurt\, Valentin-Leitgeb-Straße 1\, Klagenfurt\, Kärnten\, 9020\, Österreich
CATEGORIES:Iftar,Iftar 2023
END:VEVENT
BEGIN:VEVENT
DTSTART;TZID=Europe/Vienna:20230325T180000
DTEND;TZID=Europe/Vienna:20230325T210000
DTSTAMP:20260426T043606
CREATED:20230311T073101Z
LAST-MODIFIED:20240113T121307Z
UID:1411-1679767200-1679778000@www.iftar.at
SUMMARY:Mreza Mladih Jugend Iftar Graz
DESCRIPTION:
URL:https://www.iftar.at/event/mreza-mladih-jugend-iftar-graz-2023/
LOCATION:Bosnjak Graz Moschee\, Gmeinstraße 22a\, Graz\, Steiermark\, 8055\, Österreich
CATEGORIES:Iftar,Iftar 2023
ORGANIZER;CN="Dzemat Bosnjak Graz":MAILTO:office@dzematbosnjak.at
END:VEVENT
BEGIN:VEVENT
DTSTART;TZID=Europe/Vienna:20230326T180000
DTEND;TZID=Europe/Vienna:20230326T220000
DTSTAMP:20260426T043606
CREATED:20230321T200705Z
LAST-MODIFIED:20240113T121307Z
UID:1476-1679853600-1679868000@www.iftar.at
SUMMARY:Dzemat Krems Iftar
DESCRIPTION:Anmeldung bis 24.03.2023. \nSpezialgast: Armin Muzaferija
URL:https://www.iftar.at/event/dzemat-krems-iftar-2023/
LOCATION:Dzemat Krems\, Landersdorfer Str. 73\, Krems an der Donau\, Niederösterreich\, 3500\, Österreich
CATEGORIES:Iftar,Iftar 2023
END:VEVENT
BEGIN:VEVENT
DTSTART;TZID=Europe/Vienna:20230328T180000
DTEND;TZID=Europe/Vienna:20230328T220000
DTSTAMP:20260426T043606
CREATED:20230321T212330Z
LAST-MODIFIED:20240113T121307Z
UID:1478-1680026400-1680040800@www.iftar.at
SUMMARY:ÖH WU Wien Iftar
DESCRIPTION:Zu Ehren des heiligen Monat Ramadans möchten wir allen Studierenden die Möglichkeit geben im Beisammensein das Fasten zu brechen und laden euch daher herzlichst zu unserem „ÖH WU Iftar Event“ am 28.03.2023 ein. Auch dieses Jahr ist die „Muslimische Jugend Österreich“ dabei und unterstützt uns tatkräftig. \nDieser Abend bietet allen die Gelegenheit bei einem leckeren Essen sich untereinander auszutauschen und zu vernetzen. \nWir starten den Abend mit ein paar Worten von unseren Oragnisator*innen. Danach wird der Imam Dipl. Theol. Mahmud Yavuz und der Gelehrter Mohammed Ali Ayer näher auf das Thema Ramadan eingehen und anschließend werdet ihr die Möglichkeit haben bei einer Fragerunde euch mit den Gastrednern auszutauschen. Bevor das Buffet eröffnet wird\, spricht der Imam das Bittgebet\, damit wir gemeinsam das Fasten brechen können. Ihr werdet auch die Möglichkeit haben vor Ort in unserem Gebetsraum euer Gebet zu verrichten. \nWir freuen uns auf zahlreiche bekannte\, als auch neue Gesichter! \nHard Facts:\nWann: Dienstag 28.03.2023 um 18 Uhr\nWo: WU – Festsaal 1\nKosten: 5€ \nAnmeldung verpflichtend unter oehwu-events.com
URL:https://www.iftar.at/event/oeh-wu-wien-iftar-2023/
LOCATION:WU LC Festsaal 1\, Welthandelsplatz 1\, Wien\, Wien\, 1020\, Österreich
CATEGORIES:Iftar,Iftar 2023
ORGANIZER;CN="%C3%96H WU Wien":MAILTO:beratung@oeh-wu.at
END:VEVENT
BEGIN:VEVENT
DTSTART;TZID=Europe/Vienna:20230330T181500
DTEND;TZID=Europe/Vienna:20230330T220000
DTSTAMP:20260426T043606
CREATED:20230326T093053Z
LAST-MODIFIED:20240113T121306Z
UID:1501-1680200100-1680213600@www.iftar.at
SUMMARY:MÖH Iftar Graz
DESCRIPTION:Ramadan Kulturabend mit gemeinsamem Fastenbrechen. Es erwartet euch ein leckeres buffet! \nKarl Franzens Universität Graz (Universitätsplatz 1\, 1. Untergeschoss\, SE-Raum SR 03.K1 \nVerbindliche Anmeldung via Anmeldeformular bis 28.03.2023 \nReferent: Fikret Fazlić
URL:https://www.iftar.at/event/moeh-iftar-graz-2023/
LOCATION:Seminarraum SR 03.K1\, Universität Graz\, Universitätsplatz 1\, Graz\, Steiermark\, 8010\, Österreich
CATEGORIES:Iftar,Iftar 2023
ORGANIZER;CN="Muslimische %C3%96sterreichische Hochsch%C3%BClerInnen (M%C3%96H)":MAILTO:office@moeh.at
END:VEVENT
BEGIN:VEVENT
DTSTART;TZID=Europe/Vienna:20230331T180000
DTEND;TZID=Europe/Vienna:20230331T220000
DTSTAMP:20260426T043606
CREATED:20230317T152840Z
LAST-MODIFIED:20240113T121306Z
UID:1449-1680285600-1680300000@www.iftar.at
SUMMARY:Dzemat Bosna Jugend Iftar
DESCRIPTION:
URL:https://www.iftar.at/event/dzemat-bosna-jugend-iftar-2023/
LOCATION:Bosna Moschee Wien\, Hippgasse 32\, Wien\, Wien\, 1160\, Österreich
CATEGORIES:Iftar,Iftar 2023
END:VEVENT
END:VCALENDAR