BEGIN:VCALENDAR
VERSION:2.0
PRODID:-//Iftare in Österreich - ECPv6.15.16//NONSGML v1.0//EN
CALSCALE:GREGORIAN
METHOD:PUBLISH
X-ORIGINAL-URL:https://www.iftar.at
X-WR-CALDESC:Veranstaltungen für Iftare in Österreich
REFRESH-INTERVAL;VALUE=DURATION:PT1H
X-Robots-Tag:noindex
X-PUBLISHED-TTL:PT1H
BEGIN:VTIMEZONE
TZID:Europe/Vienna
BEGIN:DAYLIGHT
TZOFFSETFROM:+0100
TZOFFSETTO:+0200
TZNAME:CEST
DTSTART:20200329T010000
END:DAYLIGHT
BEGIN:STANDARD
TZOFFSETFROM:+0200
TZOFFSETTO:+0100
TZNAME:CET
DTSTART:20201025T010000
END:STANDARD
BEGIN:DAYLIGHT
TZOFFSETFROM:+0100
TZOFFSETTO:+0200
TZNAME:CEST
DTSTART:20210328T010000
END:DAYLIGHT
BEGIN:STANDARD
TZOFFSETFROM:+0200
TZOFFSETTO:+0100
TZNAME:CET
DTSTART:20211031T010000
END:STANDARD
BEGIN:DAYLIGHT
TZOFFSETFROM:+0100
TZOFFSETTO:+0200
TZNAME:CEST
DTSTART:20220327T010000
END:DAYLIGHT
BEGIN:STANDARD
TZOFFSETFROM:+0200
TZOFFSETTO:+0100
TZNAME:CET
DTSTART:20221030T010000
END:STANDARD
END:VTIMEZONE
BEGIN:VEVENT
DTSTART;TZID=Europe/Vienna:20210413T000000
DTEND;TZID=Europe/Vienna:20210512T235959
DTSTAMP:20260424T214533
CREATED:20201224T143707Z
LAST-MODIFIED:20210114T122527Z
UID:1047-1618272000-1620863999@www.iftar.at
SUMMARY:Ramadan 2021
DESCRIPTION:Ramadan 2021 beginnt in Österreich voraussichtlich am Abend des 12.04.2021 und endet am Abend des 12.05.2021.
URL:https://www.iftar.at/event/ramadan-2021/
END:VEVENT
BEGIN:VEVENT
DTSTART;TZID=Europe/Vienna:20210501T193000
DTEND;TZID=Europe/Vienna:20210501T213000
DTSTAMP:20260424T214533
CREATED:20210426T142843Z
LAST-MODIFIED:20210426T142843Z
UID:1138-1619897400-1619904600@www.iftar.at
SUMMARY:MJÖ Late Night Iftar Show
DESCRIPTION:Ramadan ist ein gesegneter Monat voller besonderer Momente und gemeinsamer Fastenbrechen. Was dabei auf jeden Fall nicht fehlen darf? Der jährliche legendäre MJÖ Ifar mit coolem Programm & Essen!\nAuch in Zeiten von Corona? Ja! Wir präsentieren: Das größte deutschsprachige Ramadan Online-Event\, die „Late Night Iftar Show“. Schalte am 01.05.2021 ein\, um ein Programm der Superlative\, mit coolen Gäste und vielem mehr\, nicht zu verpassen!\nUnd was ist jetzt mit dem Essen? Keine Sorge\, we got you! Wenn wir nicht vor Ort essen können\, dann kommt das Essen eben zu dir*! Genieße die Late Night Iftar Show mit einem coolen Programm\, lustigen Videos\, einem coolen Gewinnspiel und einer leckeren Iftarbox einfach ganz angenehm von deiner Couch zuhause.\nDu fragst dich\, wie du beim Essen Gutes tun kannst? Ganz einfach bei deiner Bestellung legst du selbst einen Betrag fest\, den du an die Crowdfunding-Kampagne von „Fasten Teilen Helfen“ spenden möchtest. Mit deiner Spende werden Bedürftige gespeist.
URL:https://www.iftar.at/event/mjoe-late-night-iftar-show/
END:VEVENT
BEGIN:VEVENT
DTSTART;TZID=Europe/Vienna:20210508T200000
DTEND;TZID=Europe/Vienna:20210508T210000
DTSTAMP:20260424T214533
CREATED:20210426T145325Z
LAST-MODIFIED:20210426T145325Z
UID:1140-1620504000-1620507600@www.iftar.at
SUMMARY:GJM Iftar To Go
DESCRIPTION:Ein Projekt der Gemeinschaft Junger MuslimInnen \nBestellschluss: 05.05.2021\n12x Abholpoints in OÖ \nDie Einnahmen aus der Veranstaltung kommen sowohl den Bedürftigen als Lebensmittelpaket als auch der IRG OÖ zugute!
URL:https://www.iftar.at/event/gjm-iftar-to-go/
ORGANIZER;CN="Gemeinschaft Junger MuslimInnen":MAILTO:office@derislam.at
END:VEVENT
BEGIN:VEVENT
DTSTART;TZID=Europe/Vienna:20210513T000000
DTEND;TZID=Europe/Vienna:20210515T235959
DTSTAMP:20260424T214533
CREATED:20201224T144234Z
LAST-MODIFIED:20201224T144235Z
UID:1049-1620864000-1621123199@www.iftar.at
SUMMARY:Fastenbrechenfest 2021
DESCRIPTION:Das Fest des Fastenbrechens (auch Eid-al-Fitr oder Bayram) findet voraussichtlich vom 13.05 (Donnerstag) bis zum 15.05.2020 (Samstag) statt. \n\n\n\nEs markiert das Ende der Fastenzeit und des Monats Ramadan und den Beginn vom Monat Shawwal. An diesem Tag treffen sich die Muslime zum Gemeinschaftsgebet und spenden Almosen an die Armen. \n\n\n\nAußerdem sind es Tage der Feierlichkeiten\, wo sich Familien\, Freunde und Bekannte gegenseitig besuchen und gemeinsam den Abschluss des Fastenmonats zelebrieren. Im Türkischen wird es übersetzt auch Zuckerfest genannt\, da Kindern an diesem Tag Süßigkeiten geschenkt werden. Generell stellt das gegenseitige Beglückwünschen zu den Feierlichkeiten einen bedeutenden Teil dar. Hierbei wird nicht nur dem engsten Bekanntenkreis sondern allen\, die man kennt oder auch nicht kennt gratuliert. Dies spiegelt sich insofern wieder\, dass sich nach erfolgtem Gebet teils fremde Menschen in den Moscheen die Hände schütteln\, umarmen oder sogar küssen.
URL:https://www.iftar.at/event/fastenbrechenfest-2021/
LOCATION:Österreich\, Österreich
END:VEVENT
BEGIN:VEVENT
DTSTART;VALUE=DATE:20210524
DTEND;VALUE=DATE:20210527
DTSTAMP:20260424T214533
CREATED:20210114T092122Z
LAST-MODIFIED:20210114T154406Z
UID:1068-1621818000-1622073599@www.iftar.at
SUMMARY:Weiße Tage (Shawwal) 2021
DESCRIPTION:Abu Dharr (Allahs Wohlgefallen auf ihm) berichtete\, dass der Prophet Muhammad (Allahs Segen und Wohlgefallen auf ihm) sagte: “Wer drei Tage im Monat fasten will\, der soll am 13.\,14.\, und 15. des Monats fasten. (Hadith bei Tirmidhi\, An-Nasa’i und Ahmad) \n\n\n\nAbu Huraira (Allahs Wohlgefallen auf ihm) berichtete: ”Mein liebster Freund (Allahs Segen und Friede auf ihm) legte mir drei Dinge ans Herz: Das Fasten an drei Tagen je Monat\, die Verrichtung von zwei Gebetsabschnitten (Rak’a) am Vormittag (Duha-Gebet)\, und dass ich ein Gebet mit einer ungeraden Zahl (Witr) an Rak’a vor der Nachtruhe verrichte.” (Hadith sahih bei Buchari\, dtsch. Ausgabe\, Nr. 1981)
URL:https://www.iftar.at/event/weisse-tage-shawwal/
END:VEVENT
END:VCALENDAR