BEGIN:VCALENDAR
VERSION:2.0
PRODID:-//Iftare in Österreich - ECPv6.15.16//NONSGML v1.0//EN
CALSCALE:GREGORIAN
METHOD:PUBLISH
X-ORIGINAL-URL:https://www.iftar.at
X-WR-CALDESC:Veranstaltungen für Iftare in Österreich
REFRESH-INTERVAL;VALUE=DURATION:PT1H
X-Robots-Tag:noindex
X-PUBLISHED-TTL:PT1H
BEGIN:VTIMEZONE
TZID:Europe/Vienna
BEGIN:DAYLIGHT
TZOFFSETFROM:+0100
TZOFFSETTO:+0200
TZNAME:CEST
DTSTART:20190331T010000
END:DAYLIGHT
BEGIN:STANDARD
TZOFFSETFROM:+0200
TZOFFSETTO:+0100
TZNAME:CET
DTSTART:20191027T010000
END:STANDARD
BEGIN:DAYLIGHT
TZOFFSETFROM:+0100
TZOFFSETTO:+0200
TZNAME:CEST
DTSTART:20200329T010000
END:DAYLIGHT
BEGIN:STANDARD
TZOFFSETFROM:+0200
TZOFFSETTO:+0100
TZNAME:CET
DTSTART:20201025T010000
END:STANDARD
BEGIN:DAYLIGHT
TZOFFSETFROM:+0100
TZOFFSETTO:+0200
TZNAME:CEST
DTSTART:20210328T010000
END:DAYLIGHT
BEGIN:STANDARD
TZOFFSETFROM:+0200
TZOFFSETTO:+0100
TZNAME:CET
DTSTART:20211031T010000
END:STANDARD
END:VTIMEZONE
BEGIN:VEVENT
DTSTART;VALUE=DATE:20200730
DTEND;VALUE=DATE:20200803
DTSTAMP:20260425T121827
CREATED:20200509T084807Z
LAST-MODIFIED:20201224T144309Z
UID:993-1596070800-1596412799@www.iftar.at
SUMMARY:Opferfest
DESCRIPTION:Das Opferfest (auch Eid-al-Adha oder Bayram) findet voraussichtlich vom 30.07. (Donnerstag) bis zum 02.08.2020 (Sonntag) statt.\n\nEs bildet den Höhepunkt der Hadsch (Wallfahrt nach Mekka)\, die nur im Monat Dhu-l-Hidscha durchgeführt werden darf. Das Opferfest fällt auf den letzten Tag des Hadsch\, den 10. Dhu-l-Hidscha. Die Opferung eines Tieres ist für alle Muslime Pflicht\, die finanziell dazu in der Lage sind.
URL:https://www.iftar.at/event/opferfest-2020/
LOCATION:Österreich\, Österreich
END:VEVENT
END:VCALENDAR